BEGIN:VCALENDAR
VERSION:2.0
PRODID:spatie/icalendar-generator
DESCRIPTION:Events from Kc3ARC
X-WR-CALDESC:Events from Kc3ARC
REFRESH-INTERVAL;VALUE=DURATION:PT1440M
X-PUBLISHED-TTL:PT1440M
BEGIN:VTIMEZONE
TZID:Etc/GMT+4
BEGIN:STANDARD
DTSTART:20250718T190000Z
TZOFFSETFROM:-0400
TZOFFSETTO:-0400
END:STANDARD
END:VTIMEZONE
BEGIN:VTIMEZONE
TZID:UTC
BEGIN:STANDARD
DTSTART:20250728T141516Z
TZOFFSETFROM:+0000
TZOFFSETTO:+0000
END:STANDARD
END:VTIMEZONE
BEGIN:VEVENT
UID:282-67
DTSTAMP:20260424T141516Z
SUMMARY:KC3ARC Monthly Club Meeting @ 7pm
LOCATION:Kent County Emergency Operations Center 911 Public Safety Blvd.  D
 over Delaware 19901
ORGANIZER;CN=KC3ARCadmin0:MAILTO:fiveseventango@gmail.com
RRULE:FREQ=MONTHLY;BYDAY=2TU;UNTIL=20261208T000000Z
DTSTART;TZID=Etc/GMT+4:20260414T190000
DTEND;TZID=Etc/GMT+4:20260414T203000
X-ALT-DESC;FMTTYPE=TEXT/HTML:<p>7:00PM\, at the Kent County Emergency Opera
 tions Center.</p>\n<p>911 Public Safety Blvd.\, Dover\, DE. 19901</p>\n
CATEGORIES:Club Meeting
URL;VALUE=URI:https://kc3arc.org/mc-events/kc3arc-monthly-club-meeting-7pm-
 3/?mc_id=282
METHOD:PUBLISH
END:VEVENT
BEGIN:VEVENT
UID:306-74
DTSTAMP:20260424T141516Z
SUMMARY:Delaware HamFest 2026
LOCATION:Sussex Academy 21150 Airport Rd  Georgetown Delaware 19947
ORGANIZER;CN=KC3ARCadmin0:MAILTO:fiveseventango@gmail.com
DTSTART;TZID=Etc/GMT+4:20260418T080000
DTEND;TZID=Etc/GMT+4:20260418T140000
X-ALT-DESC;FMTTYPE=TEXT/HTML:A new and bigger Hamfest is coming this April 
 18th to a new location Sussex Academy 21150 Airport Rd. ​Georgetown\, D
 E 19947 Located just across the street from the old venue. This facility i
 s larger\, and can hold more vendors and the parking lot can hold more car
 s than before\, no need for grass and dirt&amp;hellip\;
CATEGORIES:HamFest
URL;VALUE=URI:https://kc3arc.org/mc-events/delaware-hamfest-2026/
METHOD:PUBLISH
END:VEVENT
BEGIN:VEVENT
UID:293-45
DTSTAMP:20260424T141516Z
SUMMARY:ARES  Meeting @ 7pm
LOCATION:Kent County Emergency Operations Center 911 Public Safety Blvd.  D
 over Delaware 19901
ORGANIZER;CN=KC3ARCadmin0:MAILTO:fiveseventango@gmail.com
RRULE:FREQ=MONTHLY;BYDAY=4MO;UNTIL=20261228T000000Z
DTSTART;TZID=Etc/GMT+4:20260427T190000
DTEND;TZID=Etc/GMT+4:20260427T203000
X-ALT-DESC;FMTTYPE=TEXT/HTML:ARES Meeting Meetings are held at 7 PM on the 
 last Monday  of the month in the conference room of the Kent County Emer
 gency Operations Center. 911 Public Safety Blvd. Dover\, DE. 19901
CATEGORIES:Auxcomm,  Emcomm
URL;VALUE=URI:https://kc3arc.org/mc-events/ares-meeting-7pm/?mc_id=293
METHOD:PUBLISH
END:VEVENT
END:VCALENDAR