BEGIN:VCALENDAR
VERSION:2.0
PRODID:spatie/icalendar-generator
DESCRIPTION:Events from Kc3ARC
X-WR-CALDESC:Events from Kc3ARC
REFRESH-INTERVAL;VALUE=DURATION:PT1440M
X-PUBLISHED-TTL:PT1440M
BEGIN:VTIMEZONE
TZID:Etc/GMT+4
BEGIN:STANDARD
DTSTART:20230104T000000Z
TZOFFSETFROM:-0400
TZOFFSETTO:-0400
END:STANDARD
END:VTIMEZONE
BEGIN:VTIMEZONE
TZID:UTC
BEGIN:STANDARD
DTSTART:20250728T221532Z
TZOFFSETFROM:+0000
TZOFFSETTO:+0000
END:STANDARD
END:VTIMEZONE
BEGIN:VEVENT
UID:140-21
DTSTAMP:20260424T221532Z
SUMMARY:CARA Fest
LOCATION:Howard County Fair Gounds 2210 Fairgrounds Road  West Friendship M
 aryland 21794
ORGANIZER;CN=KC3ARCadmin0:MAILTO:fiveseventango@gmail.com
DTSTART;TZID=Etc/GMT+4;VALUE=DATE:20231001
DTEND;TZID=Etc/GMT+4;VALUE=DATE:20231002
X-ALT-DESC;FMTTYPE=TEXT/HTML:Columbia Amateur Radio Association (CARA) Howa
 rd County Fairgrounds\, 2210 Fairgrounds Road\, West Friendship\, MD 21794
  Contact: Michael Olson \, K3RMO\, P.O. Box 911 Columbia\, MD 21044   Pho
 ne: 410-497-4125  Email: carafest@columbiaara.org Talk-In: 147.390 MHz /R
 + CTCSS 156.7 Hz
CATEGORIES:HamFest
URL;VALUE=URI:https://kc3arc.org/mc-events/cara-fest/
METHOD:PUBLISH
END:VEVENT
END:VCALENDAR