BEGIN:VCALENDAR
VERSION:2.0
PRODID:spatie/icalendar-generator
DESCRIPTION:Events from Kc3ARC
X-WR-CALDESC:Events from Kc3ARC
REFRESH-INTERVAL;VALUE=DURATION:PT1440M
X-PUBLISHED-TTL:PT1440M
BEGIN:VTIMEZONE
TZID:Etc/GMT+4
BEGIN:STANDARD
DTSTART:20230516T100000Z
TZOFFSETFROM:-0400
TZOFFSETTO:-0400
END:STANDARD
END:VTIMEZONE
BEGIN:VTIMEZONE
TZID:UTC
BEGIN:STANDARD
DTSTART:20250729T043303Z
TZOFFSETFROM:+0000
TZOFFSETTO:+0000
END:STANDARD
END:VTIMEZONE
BEGIN:VEVENT
UID:188-46
DTSTAMP:20260425T043303Z
SUMMARY:Delaware Section Leadership Meeting
LOCATION:Grotto Pizza 1159 N Dupont Hwy  Dover DE 19901
ORGANIZER;CN=KC3ARCadmin0:MAILTO:fiveseventango@gmail.com
DTSTART;TZID=Etc/GMT+4:20240210T100000
DTEND;TZID=Etc/GMT+4:20240210T150000
X-ALT-DESC;FMTTYPE=TEXT/HTML:Steven Keller is hosting a Delaware Section Le
 adership Meeting on February 10\, 2024 in Dover. This meeting will be atte
 nded by Section Staff\, club presidents and other invitees. I encourage ev
 eryone to grab your County EC\, Club President and pass along any question
 s/concerns you may have for Section Staff. Section Staff will be having qu
 arterly&amp;hellip\;
CATEGORIES:Section Meeting
URL;VALUE=URI:https://kc3arc.org/mc-events/delaware-section-leadership-meet
 ing/
METHOD:PUBLISH
END:VEVENT
END:VCALENDAR