BEGIN:VCALENDAR
VERSION:2.0
PRODID:spatie/icalendar-generator
DESCRIPTION:Events from Kc3ARC
X-WR-CALDESC:Events from Kc3ARC
REFRESH-INTERVAL;VALUE=DURATION:PT1440M
X-PUBLISHED-TTL:PT1440M
BEGIN:VTIMEZONE
TZID:Etc/GMT+4
BEGIN:STANDARD
DTSTART:20241217T090000Z
TZOFFSETFROM:-0400
TZOFFSETTO:-0400
END:STANDARD
END:VTIMEZONE
BEGIN:VTIMEZONE
TZID:UTC
BEGIN:STANDARD
DTSTART:20250729T104650Z
TZOFFSETFROM:+0000
TZOFFSETTO:+0000
END:STANDARD
END:VTIMEZONE
BEGIN:VEVENT
UID:198-54
DTSTAMP:20260425T104650Z
SUMMARY:Ham Radio Examinations
LOCATION:
ORGANIZER;CN=KC3ARCadmin0:MAILTO:fiveseventango@gmail.com
DTSTART;TZID=Etc/GMT+4:20250913T090000
DTEND;TZID=Etc/GMT+4:20250913T100000
X-ALT-DESC;FMTTYPE=TEXT/HTML:There are three types of license Exams\, inclu
 ding: Technician. This license is perfect for those just getting started w
 ith their ham radio hobby. General. With a General license\, you’ll unlo
 ck all of the privileges of the Technician license plus the ability to com
 municate on frequencies in the High Frequency (HF) band. Extra. All of the
 &amp;hellip\;
CATEGORIES:Exam
URL;VALUE=URI:https://kc3arc.org/mc-events/ham-radio-examinations-5/
METHOD:PUBLISH
END:VEVENT
END:VCALENDAR