BEGIN:VCALENDAR
VERSION:2.0
PRODID:spatie/icalendar-generator
DESCRIPTION:Events from Kc3ARC
X-WR-CALDESC:Events from Kc3ARC
REFRESH-INTERVAL;VALUE=DURATION:PT1440M
X-PUBLISHED-TTL:PT1440M
BEGIN:VTIMEZONE
TZID:Etc/GMT+4
BEGIN:STANDARD
DTSTART:20240912T193000Z
TZOFFSETFROM:-0400
TZOFFSETTO:-0400
END:STANDARD
END:VTIMEZONE
BEGIN:VTIMEZONE
TZID:UTC
BEGIN:STANDARD
DTSTART:20250729T104913Z
TZOFFSETFROM:+0000
TZOFFSETTO:+0000
END:STANDARD
END:VTIMEZONE
BEGIN:VEVENT
UID:255-61
DTSTAMP:20260425T104913Z
SUMMARY:AUXCOMM Meeting @ 7:30pm
LOCATION:Sussex County Emergency Operations Center 21911 Rudder Lane  Georg
 etown Delaware 19947
ORGANIZER;CN=KC3ARCadmin0:MAILTO:fiveseventango@gmail.com
DTSTART;TZID=Etc/GMT+4:20250609T193000
DTEND;TZID=Etc/GMT+4:20250609T210000
X-ALT-DESC;FMTTYPE=TEXT/HTML:<p>Sussex County Emergency Operations Center<b />\n21911 Rudder Lane\, Georgetown\, DE 19947</p>\n
CATEGORIES:Auxcomm
URL;VALUE=URI:https://kc3arc.org/mc-events/auxcomm-meeting-730pm-4/
METHOD:PUBLISH
END:VEVENT
END:VCALENDAR