BEGIN:VCALENDAR
VERSION:2.0
PRODID:spatie/icalendar-generator
DESCRIPTION:Events from Kc3ARC
X-WR-CALDESC:Events from Kc3ARC
REFRESH-INTERVAL;VALUE=DURATION:PT1440M
X-PUBLISHED-TTL:PT1440M
BEGIN:VTIMEZONE
TZID:Etc/GMT+4
BEGIN:STANDARD
DTSTART:20240730T000000Z
TZOFFSETFROM:-0400
TZOFFSETTO:-0400
END:STANDARD
END:VTIMEZONE
BEGIN:VTIMEZONE
TZID:UTC
BEGIN:STANDARD
DTSTART:20250729T042039Z
TZOFFSETFROM:+0000
TZOFFSETTO:+0000
END:STANDARD
END:VTIMEZONE
BEGIN:VEVENT
UID:268-63
DTSTAMP:20260425T042039Z
SUMMARY:SARA Hamfest 2025
LOCATION:Cheer Center 20520 Sand Hill Road  Georgetown Delaware 19947
ORGANIZER;CN=KC3ARCadmin0:MAILTO:fiveseventango@gmail.com
DTSTART;TZID=Etc/GMT+4:20250426T000000
DTEND;TZID=Etc/GMT+4:20250426T120000
X-ALT-DESC;FMTTYPE=TEXT/HTML:<p>Jamie\, W3UC<br />\n(410) 202-7690<br />\nh
 amfestdelaware@gmail.com</p>\n
CATEGORIES:HamFest
URL;VALUE=URI:https://kc3arc.org/mc-events/sara-hamfest-2025-2/
METHOD:PUBLISH
END:VEVENT
END:VCALENDAR