BEGIN:VCALENDAR
VERSION:2.0
PRODID:spatie/icalendar-generator
DESCRIPTION:Events from Kc3ARC
X-WR-CALDESC:Events from Kc3ARC
REFRESH-INTERVAL;VALUE=DURATION:PT1440M
X-PUBLISHED-TTL:PT1440M
BEGIN:VTIMEZONE
TZID:Etc/GMT+4
BEGIN:STANDARD
DTSTART:20241001T000000Z
TZOFFSETFROM:-0400
TZOFFSETTO:-0400
END:STANDARD
END:VTIMEZONE
BEGIN:VTIMEZONE
TZID:UTC
BEGIN:STANDARD
DTSTART:20250729T135833Z
TZOFFSETFROM:+0000
TZOFFSETTO:+0000
END:STANDARD
END:VTIMEZONE
BEGIN:VEVENT
UID:275-62
DTSTAMP:20260425T135833Z
SUMMARY:ARRL Field Day (Weekend) 2025
LOCATION:Bally\\'s Dover Casino Resort 1131 N Dupont Hwy  Dover DE 19901
ORGANIZER;CN=KC3ARCadmin0:MAILTO:fiveseventango@gmail.com
DTSTART;TZID=Etc/GMT+4;VALUE=DATE:20250628
DTEND;TZID=Etc/GMT+4;VALUE=DATE:20250630
X-ALT-DESC;FMTTYPE=TEXT/HTML:https://www.arrl.org/field-day &amp;nbsp\; https:/
 /kc3arc.org/field-day-2025/ &amp;nbsp\; The Kent County Amateur Radio Club (KC
 ARC) should be setup within the yellow area on the map. Look for the two t
 railers and some big antennas\, also signs will be posted pointing to the 
 exact location.  &amp;nbsp\; &amp;nbsp\;
CATEGORIES:ARRL Field Day
URL;VALUE=URI:https://kc3arc.org/mc-events/arrl-field-day-weekend-2025/
METHOD:PUBLISH
END:VEVENT
END:VCALENDAR