BEGIN:VCALENDAR
VERSION:2.0
PRODID:spatie/icalendar-generator
DESCRIPTION:Events from Kc3ARC
X-WR-CALDESC:Events from Kc3ARC
REFRESH-INTERVAL;VALUE=DURATION:PT1440M
X-PUBLISHED-TTL:PT1440M
BEGIN:VTIMEZONE
TZID:Etc/GMT+4
BEGIN:STANDARD
DTSTART:20251030T190000Z
TZOFFSETFROM:-0400
TZOFFSETTO:-0400
END:STANDARD
END:VTIMEZONE
BEGIN:VTIMEZONE
TZID:UTC
BEGIN:STANDARD
DTSTART:20250728T170836Z
TZOFFSETFROM:+0000
TZOFFSETTO:+0000
END:STANDARD
END:VTIMEZONE
BEGIN:VEVENT
UID:296-45
DTSTAMP:20260424T170836Z
SUMMARY:ARES  Meeting @ 7pm
LOCATION:Kent County Emergency Operations Center 911 Public Safety Blvd.  D
 over Delaware 19901
ORGANIZER;CN=KC3ARCadmin0:MAILTO:fiveseventango@gmail.com
RRULE:FREQ=MONTHLY;BYDAY=4MO;UNTIL=20261228T000000Z
DTSTART;TZID=Etc/GMT+4:20260727T190000
DTEND;TZID=Etc/GMT+4:20260727T203000
X-ALT-DESC;FMTTYPE=TEXT/HTML:ARES Meeting Meetings are held at 7 PM on the 
 last Monday  of the month in the conference room of the Kent County Emer
 gency Operations Center. 911 Public Safety Blvd. Dover\, DE. 19901
CATEGORIES:Auxcomm,  Emcomm
URL;VALUE=URI:https://kc3arc.org/mc-events/ares-meeting-7pm/?mc_id=296
METHOD:PUBLISH
END:VEVENT
END:VCALENDAR