BEGIN:VCALENDAR
VERSION:2.0
PRODID:spatie/icalendar-generator
DESCRIPTION:Events from Kc3ARC
X-WR-CALDESC:Events from Kc3ARC
REFRESH-INTERVAL;VALUE=DURATION:PT1440M
X-PUBLISHED-TTL:PT1440M
BEGIN:VTIMEZONE
TZID:Etc/GMT+4
BEGIN:STANDARD
DTSTART:20250611T000000Z
TZOFFSETFROM:-0400
TZOFFSETTO:-0400
END:STANDARD
END:VTIMEZONE
BEGIN:VTIMEZONE
TZID:UTC
BEGIN:STANDARD
DTSTART:20250728T184445Z
TZOFFSETFROM:+0000
TZOFFSETTO:+0000
END:STANDARD
END:VTIMEZONE
BEGIN:VEVENT
UID:303-71
DTSTAMP:20260424T184445Z
SUMMARY:Daylight Saving Time Starts
LOCATION:
ORGANIZER;CN=KC3ARCadmin0:MAILTO:fiveseventango@gmail.com
DTSTART;TZID=Etc/GMT+4;VALUE=DATE:20260308
DTEND;TZID=Etc/GMT+4;VALUE=DATE:20260309
X-ALT-DESC;FMTTYPE=TEXT/HTML:Mar 8th\, 2026 - Daylight Saving Time Starts S
 tarts (Spring Forward): Sunday\, March 8\, 2026\, at 2:00 a.m. local time
 . Ends (Fall Back): Sunday\, November 1\, 2026\, at 2:00 a.m. local time.
  
CATEGORIES:Daylight Savings Time
URL;VALUE=URI:https://kc3arc.org/mc-events/daylight-saving-time-starts-3/
METHOD:PUBLISH
END:VEVENT
END:VCALENDAR