BEGIN:VCALENDAR
VERSION:2.0
PRODID:spatie/icalendar-generator
DESCRIPTION:Events from Kc3ARC
X-WR-CALDESC:Events from Kc3ARC
REFRESH-INTERVAL;VALUE=DURATION:PT1440M
X-PUBLISHED-TTL:PT1440M
BEGIN:VTIMEZONE
TZID:Etc/GMT+4
BEGIN:STANDARD
DTSTART:20210928T000000Z
TZOFFSETFROM:-0400
TZOFFSETTO:-0400
END:STANDARD
END:VTIMEZONE
BEGIN:VTIMEZONE
TZID:UTC
BEGIN:STANDARD
DTSTART:20250728T190530Z
TZOFFSETFROM:+0000
TZOFFSETTO:+0000
END:STANDARD
END:VTIMEZONE
BEGIN:VEVENT
UID:57-8
DTSTAMP:20260424T190530Z
SUMMARY:ARRL Field Day (Weekend)
LOCATION:
ORGANIZER;CN=KC3ARCadmin0:MAILTO:fiveseventango@gmail.com
DTSTART;TZID=Etc/GMT+4;VALUE=DATE:20220625
DTEND;TZID=Etc/GMT+4;VALUE=DATE:20220627
X-ALT-DESC;FMTTYPE=TEXT/HTML:The Kent County Amateur Radio Club will be at 
 Brecknock County Park for the ARRL June 2022 Field Day More details coming
  soon. Some New Rules Going into Effect this Year for ARRL Field Day\; Aft
 er taking a few detours over the past couple of years due to the COVID-19 
 pandemic\, ARRL Field Day rules&amp;hellip\;
CATEGORIES:ARRL Field Day
URL;VALUE=URI:https://kc3arc.org/mc-events/arrl-field-day-weekend/
METHOD:PUBLISH
END:VEVENT
END:VCALENDAR