BEGIN:VCALENDAR
VERSION:2.0
PRODID:spatie/icalendar-generator
DESCRIPTION:Events from Kc3ARC
X-WR-CALDESC:Events from Kc3ARC
REFRESH-INTERVAL;VALUE=DURATION:PT1440M
X-PUBLISHED-TTL:PT1440M
BEGIN:VTIMEZONE
TZID:Etc/GMT+4
BEGIN:STANDARD
DTSTART:20210616T000000Z
TZOFFSETFROM:-0400
TZOFFSETTO:-0400
END:STANDARD
END:VTIMEZONE
BEGIN:VTIMEZONE
TZID:UTC
BEGIN:STANDARD
DTSTART:20250728T170555Z
TZOFFSETFROM:+0000
TZOFFSETTO:+0000
END:STANDARD
END:VTIMEZONE
BEGIN:VEVENT
UID:72-13
DTSTAMP:20260424T170555Z
SUMMARY:Daylight Saving Time Starts
LOCATION:
ORGANIZER;CN=KC3ARCadmin0:MAILTO:fiveseventango@gmail.com
DTSTART;TZID=Etc/GMT+4;VALUE=DATE:20220313
DTEND;TZID=Etc/GMT+4;VALUE=DATE:20220314
X-ALT-DESC;FMTTYPE=TEXT/HTML:Mar 13\, 2022 - Daylight Saving Time Starts Wh
 en local standard time is about to reach Sunday\, March 13\, 2022\, 2:00:
 00 am clocks are turned forward 1 hour to Sunday\, March 13\, 2022\, 3
 :00:00 am local daylight time instead.
CATEGORIES:Daylight Savings Time
URL;VALUE=URI:https://kc3arc.org/mc-events/daylight-saving-time-starts/
METHOD:PUBLISH
END:VEVENT
END:VCALENDAR