BEGIN:VCALENDAR
VERSION:2.0
PRODID:spatie/icalendar-generator
DESCRIPTION:Events from Kc3ARC
X-WR-CALDESC:Events from Kc3ARC
REFRESH-INTERVAL;VALUE=DURATION:PT1440M
X-PUBLISHED-TTL:PT1440M
BEGIN:VTIMEZONE
TZID:Etc/GMT+4
BEGIN:STANDARD
DTSTART:20210622T080000Z
TZOFFSETFROM:-0400
TZOFFSETTO:-0400
END:STANDARD
END:VTIMEZONE
BEGIN:VTIMEZONE
TZID:UTC
BEGIN:STANDARD
DTSTART:20250728T184139Z
TZOFFSETFROM:+0000
TZOFFSETTO:+0000
END:STANDARD
END:VTIMEZONE
BEGIN:VEVENT
UID:74-15
DTSTAMP:20260424T184139Z
SUMMARY:March Madness Exercise
LOCATION:
ORGANIZER;CN=KC3ARCadmin0:MAILTO:fiveseventango@gmail.com
DTSTART;TZID=Etc/GMT+4:20220319T080000
DTEND;TZID=Etc/GMT+4:20220319T120000
X-ALT-DESC;FMTTYPE=TEXT/HTML:March Madness Exercise Saturday 3-19-22 0800 
 – 1200 Sussex EOC will be operational as the NCS for the exercise that w
 ill include Home Stations\, Mobile Stations\, and Portable Stations. PORTA
 BLE STATIONS: Three Go Kits from the EOC with portable antennas and batter
 y power will be deployed to identified positions (operator’s choice) in 
 the field (volunteers&amp;hellip\;
CATEGORIES:Exercise
URL;VALUE=URI:https://kc3arc.org/mc-events/march-madness-exercise/
METHOD:PUBLISH
END:VEVENT
END:VCALENDAR