BEGIN:VCALENDAR
VERSION:2.0
PRODID:spatie/icalendar-generator
DESCRIPTION:Events from Kc3ARC
X-WR-CALDESC:Events from Kc3ARC
REFRESH-INTERVAL;VALUE=DURATION:PT1440M
X-PUBLISHED-TTL:PT1440M
BEGIN:VTIMEZONE
TZID:Etc/GMT+4
BEGIN:STANDARD
DTSTART:20210922T000000Z
TZOFFSETFROM:-0400
TZOFFSETTO:-0400
END:STANDARD
END:VTIMEZONE
BEGIN:VTIMEZONE
TZID:UTC
BEGIN:STANDARD
DTSTART:20250728T191025Z
TZOFFSETFROM:+0000
TZOFFSETTO:+0000
END:STANDARD
END:VTIMEZONE
BEGIN:VEVENT
UID:77-19
DTSTAMP:20260424T191025Z
SUMMARY:Father's Day HamFest at Arcadia
LOCATION:Arcadia Fair Grounds 16920 Carnival Ave  Upperco Maryland 21155
ORGANIZER;CN=KC3ARCadmin0:MAILTO:fiveseventango@gmail.com
DTSTART;TZID=Etc/GMT+4;VALUE=DATE:20220619
DTEND;TZID=Etc/GMT+4;VALUE=DATE:20220620
X-ALT-DESC;FMTTYPE=TEXT/HTML:Father's Day Hamfest at Arcadia Baltimore Amat
 eur Radio Club Arcadia Fairgrounds\, 16920 Carnival Ave.\, Upperco\, MD 21
 155 Contact: David Shadwell \, AB3TE\, P.O.Box 120 Reisterstown\, MD 21136
   Phone: 410-252-2878  Email: W3FT67@yahoo.com     Talk-In: 146.67 PL 
 107.2
CATEGORIES:HamFest
URL;VALUE=URI:https://kc3arc.org/mc-events/fathers-day-hamfest-at-arcadia/
METHOD:PUBLISH
END:VEVENT
END:VCALENDAR