BEGIN:VCALENDAR
VERSION:2.0
PRODID:spatie/icalendar-generator
DESCRIPTION:Events from Kc3ARC
X-WR-CALDESC:Events from Kc3ARC
REFRESH-INTERVAL;VALUE=DURATION:PT1440M
X-PUBLISHED-TTL:PT1440M
BEGIN:VTIMEZONE
TZID:Etc/GMT+4
BEGIN:STANDARD
DTSTART:20211128T090000Z
TZOFFSETFROM:-0400
TZOFFSETTO:-0400
END:STANDARD
END:VTIMEZONE
BEGIN:VTIMEZONE
TZID:UTC
BEGIN:STANDARD
DTSTART:20250729T013603Z
TZOFFSETFROM:+0000
TZOFFSETTO:+0000
END:STANDARD
END:VTIMEZONE
BEGIN:VEVENT
UID:84-26
DTSTAMP:20260425T013603Z
SUMMARY:“Pop Up” Exercise!
LOCATION:
ORGANIZER;CN=KC3ARCadmin0:MAILTO:fiveseventango@gmail.com
DTSTART;TZID=Etc/GMT+4:20220825T090000
DTEND;TZID=Etc/GMT+4:20220825T110000
X-ALT-DESC;FMTTYPE=TEXT/HTML:Sussex County DE AUXCOMM will be conducting an
 other \"Pop Up\" exercise on August 25th open to all licensed amateur oper
 ators. There will be two operational periods for this exercise so that all
  can have an opportunity to participate\; a morning session from 0900-1100
  and an evening session from 1830-2030. The purpose of this exercise is&amp;he
 llip\;
CATEGORIES:ARRL Field Day
URL;VALUE=URI:https://kc3arc.org/mc-events/pop-up-exercise/
METHOD:PUBLISH
END:VEVENT
END:VCALENDAR