BEGIN:VCALENDAR
VERSION:2.0
PRODID:spatie/icalendar-generator
DESCRIPTION:Events from Kc3ARC
X-WR-CALDESC:Events from Kc3ARC
REFRESH-INTERVAL;VALUE=DURATION:PT1440M
X-PUBLISHED-TTL:PT1440M
BEGIN:VTIMEZONE
TZID:Etc/GMT+4
BEGIN:STANDARD
DTSTART:20220104T000000Z
TZOFFSETFROM:-0400
TZOFFSETTO:-0400
END:STANDARD
END:VTIMEZONE
BEGIN:VTIMEZONE
TZID:UTC
BEGIN:STANDARD
DTSTART:20250729T031406Z
TZOFFSETFROM:+0000
TZOFFSETTO:+0000
END:STANDARD
END:VTIMEZONE
BEGIN:VEVENT
UID:88-29
DTSTAMP:20260425T031406Z
SUMMARY:Red Rose Repeater Association Hamfest
LOCATION:
ORGANIZER;CN=KC3ARCadmin0:MAILTO:fiveseventango@gmail.com
DTSTART;TZID=Etc/GMT+4;VALUE=DATE:20221001
DTEND;TZID=Etc/GMT+4;VALUE=DATE:20221002
X-ALT-DESC;FMTTYPE=TEXT/HTML:Red Rose Repeater Association Garden Spot Fire
  &amp;amp\; Rescue\, 339 East Main Street\, New Holland\, PA 17557 Contact: Ra
 lph Hess \, KC3KMT\, 331 East Main Street New Holland\, PA 17557 Phone: 71
 7-354-2200 Email: rett42@yahoo.com Talk-In: 147.015 (-) 118.8 Website: htt
 p://w3rrr.org
CATEGORIES:HamFest
URL;VALUE=URI:https://kc3arc.org/mc-events/red-rose-repeater-association-ha
 mfest/
METHOD:PUBLISH
END:VEVENT
END:VCALENDAR