BEGIN:VCALENDAR
VERSION:2.0
PRODID:spatie/icalendar-generator
DESCRIPTION:Events from Kc3ARC
X-WR-CALDESC:Events from Kc3ARC
REFRESH-INTERVAL;VALUE=DURATION:PT1440M
X-PUBLISHED-TTL:PT1440M
BEGIN:VTIMEZONE
TZID:Etc/GMT+4
BEGIN:STANDARD
DTSTART:20220111T000000Z
TZOFFSETFROM:-0400
TZOFFSETTO:-0400
END:STANDARD
END:VTIMEZONE
BEGIN:VTIMEZONE
TZID:UTC
BEGIN:STANDARD
DTSTART:20250729T010835Z
TZOFFSETFROM:+0000
TZOFFSETTO:+0000
END:STANDARD
END:VTIMEZONE
BEGIN:VEVENT
UID:89-30
DTSTAMP:20260425T010835Z
SUMMARY:Hollywood Maryland 9th Annual TailgateFest
LOCATION:Hollywood Volunteer Fire Department (Huseman Room) 24801 Three Not
 ch Road  Hollywood MD 24801
ORGANIZER;CN=KC3ARCadmin0:MAILTO:fiveseventango@gmail.com
DTSTART;TZID=Etc/GMT+4;VALUE=DATE:20221008
DTEND;TZID=Etc/GMT+4;VALUE=DATE:20221009
X-ALT-DESC;FMTTYPE=TEXT/HTML:St. Mary's County ARA Hollywood Volunteer Fire
  Department Huseman Room\, 24801 Three Notch Road (MD Rte. 235)\, Hollywoo
 d\, MD 20636 Contact: Dan Hatcher \, KD3CQ\, 43946 Lanedon Dr. Leonardtown
 \, MD 20650 Phone: 1-301-994-2834 Email: dan777@atlanticbb.net Talk-In: 14
 6.64 (146.2 Hz) Website: http://k3hki.org
CATEGORIES:HamFest
URL;VALUE=URI:https://kc3arc.org/mc-events/hollywood-maryland-9th-annual-ta
 ilgatefest/
METHOD:PUBLISH
END:VEVENT
END:VCALENDAR