BEGIN:VCALENDAR
VERSION:2.0
PRODID:spatie/icalendar-generator
DESCRIPTION:Events from Kc3ARC
X-WR-CALDESC:Events from Kc3ARC
REFRESH-INTERVAL;VALUE=DURATION:PT1440M
X-PUBLISHED-TTL:PT1440M
BEGIN:VTIMEZONE
TZID:Etc/GMT+4
BEGIN:STANDARD
DTSTART:20220719T000000Z
TZOFFSETFROM:-0400
TZOFFSETTO:-0400
END:STANDARD
END:VTIMEZONE
BEGIN:VTIMEZONE
TZID:UTC
BEGIN:STANDARD
DTSTART:20250729T010122Z
TZOFFSETFROM:+0000
TZOFFSETTO:+0000
END:STANDARD
END:VTIMEZONE
BEGIN:VEVENT
UID:99-32
DTSTAMP:20260425T010122Z
SUMMARY:SARA Hamfest 2023
LOCATION:Cheer Center 20520 Sand Hill Road  Georgetown Delaware 19947
ORGANIZER;CN=KC3ARCadmin0:MAILTO:fiveseventango@gmail.com
DTSTART;TZID=Etc/GMT+4;VALUE=DATE:20230415
DTEND;TZID=Etc/GMT+4;VALUE=DATE:20230416
X-ALT-DESC;FMTTYPE=TEXT/HTML:<p>Contact: Jamie Ashton \, W3UC\, 7446 Parker
  St. Pittsville MD \,21850<br />\nPhone: 410-202-7690 Email: ashton@mchsi.
 com</p>\n
CATEGORIES:HamFest
URL;VALUE=URI:https://kc3arc.org/mc-events/sara-hamfest-2023/
METHOD:PUBLISH
END:VEVENT
END:VCALENDAR