BEGIN:VCALENDAR
VERSION:2.0
PRODID:spatie/icalendar-generator
DESCRIPTION:Events from Kc3ARC
X-WR-CALDESC:Events from Kc3ARC
REFRESH-INTERVAL;VALUE=DURATION:PT1440M
X-PUBLISHED-TTL:PT1440M
BEGIN:VTIMEZONE
TZID:Etc/GMT+4
BEGIN:STANDARD
DTSTART:20220831T000000Z
TZOFFSETFROM:-0400
TZOFFSETTO:-0400
END:STANDARD
END:VTIMEZONE
BEGIN:VTIMEZONE
TZID:UTC
BEGIN:STANDARD
DTSTART:20250728T173209Z
TZOFFSETFROM:+0000
TZOFFSETTO:+0000
END:STANDARD
END:VTIMEZONE
BEGIN:VEVENT
UID:134-18
DTSTAMP:20260424T173209Z
SUMMARY:Memorial Day Hamfest
LOCATION:
ORGANIZER;CN=KC3ARCadmin0:MAILTO:fiveseventango@gmail.com
DTSTART;TZID=Etc/GMT+4;VALUE=DATE:20230528
DTEND;TZID=Etc/GMT+4;VALUE=DATE:20230529
X-ALT-DESC;FMTTYPE=TEXT/HTML:Memorial Day Hamfest Maryland F. M. Associatio
 n\, Inc Howard County Fair Grounds\, 2210 Fairgrounds Road\, West Friendsh
 ip\, MD 21794 Contact: John Elgin \, WA3MNN\, 518 Copley Lane Silver Sprin
 g\, MD 20904  Phone: 301-641-5313  Email: marylandfm@verizon.net Talk-In
 : 146.76\, 224.76\, 444.0 tone 107.2 for all bands
CATEGORIES:HamFest
URL;VALUE=URI:https://kc3arc.org/mc-events/memorial-day-hamfest/
METHOD:PUBLISH
END:VEVENT
END:VCALENDAR