BEGIN:VCALENDAR
VERSION:2.0
PRODID:spatie/icalendar-generator
DESCRIPTION:Events from Kc3ARC
X-WR-CALDESC:Events from Kc3ARC
REFRESH-INTERVAL;VALUE=DURATION:PT1440M
X-PUBLISHED-TTL:PT1440M
BEGIN:VTIMEZONE
TZID:Etc/GMT+4
BEGIN:STANDARD
DTSTART:20220927T000000Z
TZOFFSETFROM:-0400
TZOFFSETTO:-0400
END:STANDARD
END:VTIMEZONE
BEGIN:VTIMEZONE
TZID:UTC
BEGIN:STANDARD
DTSTART:20250728T203749Z
TZOFFSETFROM:+0000
TZOFFSETTO:+0000
END:STANDARD
END:VTIMEZONE
BEGIN:VEVENT
UID:135-34
DTSTAMP:20260424T203749Z
SUMMARY:ARRL Field Day (Weekend)
LOCATION:Brecknock County Park 80 Old Camden Road   Camden DE 19934
ORGANIZER;CN=KC3ARCadmin0:MAILTO:fiveseventango@gmail.com
DTSTART;TZID=Etc/GMT+4;VALUE=DATE:20230624
DTEND;TZID=Etc/GMT+4;VALUE=DATE:20230626
X-ALT-DESC;FMTTYPE=TEXT/HTML:More details coming soon. &amp;nbsp\;
CATEGORIES:ARRL Field Day
URL;VALUE=URI:https://kc3arc.org/mc-events/arrl-field-day-weekend-2/
METHOD:PUBLISH
END:VEVENT
END:VCALENDAR