BEGIN:VCALENDAR
VERSION:2.0
PRODID:spatie/icalendar-generator
DESCRIPTION:Events from Kc3ARC
X-WR-CALDESC:Events from Kc3ARC
REFRESH-INTERVAL;VALUE=DURATION:PT1440M
X-PUBLISHED-TTL:PT1440M
BEGIN:VTIMEZONE
TZID:Etc/GMT+4
BEGIN:STANDARD
DTSTART:20221214T000000Z
TZOFFSETFROM:-0400
TZOFFSETTO:-0400
END:STANDARD
END:VTIMEZONE
BEGIN:VTIMEZONE
TZID:UTC
BEGIN:STANDARD
DTSTART:20250729T030336Z
TZOFFSETFROM:+0000
TZOFFSETTO:+0000
END:STANDARD
END:VTIMEZONE
BEGIN:VEVENT
UID:139-38
DTSTAMP:20260425T030336Z
SUMMARY:ARRL Southern New Jersey Section Convention
LOCATION:Gloucester County fairgrounds 235 Bridgeton Pike  Mullica Hill NJ 
 08062
ORGANIZER;CN=KC3ARCadmin0:MAILTO:fiveseventango@gmail.com
DTSTART;TZID=Etc/GMT+4;VALUE=DATE:20230910
DTEND;TZID=Etc/GMT+4;VALUE=DATE:20230911
X-ALT-DESC;FMTTYPE=TEXT/HTML:Gloucester County ARC Gloucester County 4H Fai
 rgrounds\, 235 Bridgeton Pike (Rt 77)\, Mullica Hill\, NJ Contact: Sheldon
  Parker \, K2MEN\, 643 Betty Rose Ave. Gibbstown\, NJ 08027  Phone: 1-609
 -417-7802 Email: sheldonparker@comcast.net Talk-In: 147.180 PL 131.8
CATEGORIES:HamFest
URL;VALUE=URI:https://kc3arc.org/mc-events/arrl-southern-new-jersey-section
 -convention-2/
METHOD:PUBLISH
END:VEVENT
END:VCALENDAR