BEGIN:VCALENDAR
VERSION:2.0
PRODID:spatie/icalendar-generator
DESCRIPTION:Events from Kc3ARC
X-WR-CALDESC:Events from Kc3ARC
REFRESH-INTERVAL;VALUE=DURATION:PT1440M
X-PUBLISHED-TTL:PT1440M
BEGIN:VTIMEZONE
TZID:Etc/GMT+4
BEGIN:STANDARD
DTSTART:20230125T000000Z
TZOFFSETFROM:-0400
TZOFFSETTO:-0400
END:STANDARD
END:VTIMEZONE
BEGIN:VTIMEZONE
TZID:UTC
BEGIN:STANDARD
DTSTART:20250729T014234Z
TZOFFSETFROM:+0000
TZOFFSETTO:+0000
END:STANDARD
END:VTIMEZONE
BEGIN:VEVENT
UID:141-39
DTSTAMP:20260425T014234Z
SUMMARY:Carroll County\, MD Hamfest
LOCATION:Carroll County\, MD Hamfest 46 Monroe St.  Westminster\, MD 21157
ORGANIZER;CN=KC3ARCadmin0:MAILTO:fiveseventango@gmail.com
DTSTART;TZID=Etc/GMT+4;VALUE=DATE:20231022
DTEND;TZID=Etc/GMT+4;VALUE=DATE:20231023
X-ALT-DESC;FMTTYPE=TEXT/HTML:Carroll County\, MD Hamfest - Carroll County A
 mateur Radio Club Door to Virtue Masonic Lodge\, 46 Monroe St.\, Westminst
 er\, MD 21157 Contact: Pete Hiltz \, WV3S\, 5623 LaSalle Ln Sykesville\, M
 D 21784 Phone: 443-280-0385 Talk-In: 145.410 (-) \, 114.8 Hz PL Email: rad
 io-k3pzn@googlegroups.com
CATEGORIES:HamFest
URL;VALUE=URI:https://kc3arc.org/mc-events/carroll-county-md-hamfest/
METHOD:PUBLISH
END:VEVENT
END:VCALENDAR