BEGIN:VCALENDAR
VERSION:2.0
PRODID:spatie/icalendar-generator
DESCRIPTION:Events from Kc3ARC
X-WR-CALDESC:Events from Kc3ARC
REFRESH-INTERVAL;VALUE=DURATION:PT1440M
X-PUBLISHED-TTL:PT1440M
BEGIN:VTIMEZONE
TZID:Etc/GMT+4
BEGIN:STANDARD
DTSTART:20250205T000000Z
TZOFFSETFROM:-0400
TZOFFSETTO:-0400
END:STANDARD
END:VTIMEZONE
BEGIN:VTIMEZONE
TZID:UTC
BEGIN:STANDARD
DTSTART:20250729T011646Z
TZOFFSETFROM:+0000
TZOFFSETTO:+0000
END:STANDARD
END:VTIMEZONE
BEGIN:VEVENT
UID:264-49
DTSTAMP:20260425T011646Z
SUMMARY:Daylight Saving Time Ends
LOCATION:
ORGANIZER;CN=KC3ARCadmin0:MAILTO:fiveseventango@gmail.com
DTSTART;TZID=Etc/GMT+4:20251102T000000
DTEND;TZID=Etc/GMT+4:20251102T010000
X-ALT-DESC;FMTTYPE=TEXT/HTML:Nov 3\, 2024 - Daylight Saving Time Ends When 
 local daylight time is about to reach Sunday\, November 3\, 2024\, 2:00:00
  am clocks are turned backward 1 hour to Sunday\, November 3\, 2024\, 1
 :00:00 am local standard time instead.
CATEGORIES:Daylight Savings Time
URL;VALUE=URI:https://kc3arc.org/mc-events/daylight-saving-time-ends-2/
METHOD:PUBLISH
END:VEVENT
END:VCALENDAR