BEGIN:VCALENDAR
VERSION:2.0
PRODID:spatie/icalendar-generator
DESCRIPTION:Events from Kc3ARC
X-WR-CALDESC:Events from Kc3ARC
REFRESH-INTERVAL;VALUE=DURATION:PT1440M
X-PUBLISHED-TTL:PT1440M
BEGIN:VTIMEZONE
TZID:Etc/GMT+4
BEGIN:STANDARD
DTSTART:20240910T100000Z
TZOFFSETFROM:-0400
TZOFFSETTO:-0400
END:STANDARD
END:VTIMEZONE
BEGIN:VTIMEZONE
TZID:UTC
BEGIN:STANDARD
DTSTART:20250729T104131Z
TZOFFSETFROM:+0000
TZOFFSETTO:+0000
END:STANDARD
END:VTIMEZONE
BEGIN:VEVENT
UID:270-65
DTSTAMP:20260425T104131Z
SUMMARY:Delmarva Swapmeet
LOCATION:Delmarva Swapmeet 34087 Old Hickory Rd\,  Laurel DE 19956
ORGANIZER;CN=KC3ARCadmin0:MAILTO:fiveseventango@gmail.com
DTSTART;TZID=Etc/GMT+4:20250607T100000
DTEND;TZID=Etc/GMT+4:20250607T140000
X-ALT-DESC;FMTTYPE=TEXT/HTML:Delmarva Amateur Radio Club Al Waller&amp;amp\;'s 
 QTH\, 34087 Old Hickory Rd\, Laurel\, DE 19956 Contact: Jim Jester\, KCITR
 \, 443-366-5677 or Arthur Parks\, N3EAK\, amparks6@gmail.com Talk-In: 146.
 82 (-) 156.7 PL Hours: 10 AM – 2 PM Admission Free
CATEGORIES:SwapMeet
URL;VALUE=URI:https://kc3arc.org/mc-events/delmarva-swapmeet-3/
METHOD:PUBLISH
END:VEVENT
END:VCALENDAR