BEGIN:VCALENDAR
VERSION:2.0
PRODID:spatie/icalendar-generator
DESCRIPTION:Events from Kc3ARC
X-WR-CALDESC:Events from Kc3ARC
REFRESH-INTERVAL;VALUE=DURATION:PT1440M
X-PUBLISHED-TTL:PT1440M
BEGIN:VTIMEZONE
TZID:Etc/GMT+4
BEGIN:STANDARD
DTSTART:20250415T090000Z
TZOFFSETFROM:-0400
TZOFFSETTO:-0400
END:STANDARD
END:VTIMEZONE
BEGIN:VTIMEZONE
TZID:UTC
BEGIN:STANDARD
DTSTART:20250729T024138Z
TZOFFSETFROM:+0000
TZOFFSETTO:+0000
END:STANDARD
END:VTIMEZONE
BEGIN:VEVENT
UID:302-69
DTSTAMP:20260425T024138Z
SUMMARY:Icom 7300 Training
LOCATION:Kent County Emergency Operations Center 911 Public Safety Blvd.  D
 over Delaware 19901
ORGANIZER;CN=KC3ARCadmin0:MAILTO:fiveseventango@gmail.com
DTSTART;TZID=Etc/GMT+4:20260110T090000
DTEND;TZID=Etc/GMT+4:20260110T100000
X-ALT-DESC;FMTTYPE=TEXT/HTML:Icom 7300 Training Class At the EOC on Saturda
 y\, 10 Jan 26 at 0900 EST. &amp;nbsp\;
CATEGORIES:Training
URL;VALUE=URI:https://kc3arc.org/mc-events/icom-7300-training/
METHOD:PUBLISH
END:VEVENT
END:VCALENDAR