BEGIN:VCALENDAR
VERSION:2.0
PRODID:spatie/icalendar-generator
DESCRIPTION:Events from Kc3ARC
X-WR-CALDESC:Events from Kc3ARC
REFRESH-INTERVAL;VALUE=DURATION:PT1440M
X-PUBLISHED-TTL:PT1440M
BEGIN:VTIMEZONE
TZID:Etc/GMT+4
BEGIN:STANDARD
DTSTART:20260204T000000Z
TZOFFSETFROM:-0400
TZOFFSETTO:-0400
END:STANDARD
END:VTIMEZONE
BEGIN:VTIMEZONE
TZID:UTC
BEGIN:STANDARD
DTSTART:20250729T024317Z
TZOFFSETFROM:+0000
TZOFFSETTO:+0000
END:STANDARD
END:VTIMEZONE
BEGIN:VEVENT
UID:304-72
DTSTAMP:20260425T024317Z
SUMMARY:Daylight Saving Time Ends
LOCATION:
ORGANIZER;CN=KC3ARCadmin0:MAILTO:fiveseventango@gmail.com
DTSTART;TZID=Etc/GMT+4:20261101T000000
DTEND;TZID=Etc/GMT+4:20261101T010000
X-ALT-DESC;FMTTYPE=TEXT/HTML:Nov 1st\, 2026 - Daylight Saving Time Ends End
  Date: Sunday\, November 1\, 2026. Time: Clocks are set back one hour a
 t 2:00 a.m. local time.
CATEGORIES:Daylight Savings Time
URL;VALUE=URI:https://kc3arc.org/mc-events/daylight-saving-time-ends-3/
METHOD:PUBLISH
END:VEVENT
END:VCALENDAR