BEGIN:VCALENDAR
VERSION:2.0
PRODID:spatie/icalendar-generator
DESCRIPTION:Events from Kc3ARC
X-WR-CALDESC:Events from Kc3ARC
REFRESH-INTERVAL;VALUE=DURATION:PT1440M
X-PUBLISHED-TTL:PT1440M
BEGIN:VTIMEZONE
TZID:Etc/GMT+4
BEGIN:STANDARD
DTSTART:20250429T000000Z
TZOFFSETFROM:-0400
TZOFFSETTO:-0400
END:STANDARD
END:VTIMEZONE
BEGIN:VTIMEZONE
TZID:UTC
BEGIN:STANDARD
DTSTART:20250728T215248Z
TZOFFSETFROM:+0000
TZOFFSETTO:+0000
END:STANDARD
END:VTIMEZONE
BEGIN:VEVENT
UID:305-73
DTSTAMP:20260424T215248Z
SUMMARY:ARRL Winter Field Day (Weekend)
LOCATION:Kent County Emergency Operations Center 911 Public Safety Blvd.  D
 over Delaware 19901
ORGANIZER;CN=KC3ARCadmin0:MAILTO:fiveseventango@gmail.com
DTSTART;TZID=Etc/GMT+4;VALUE=DATE:20260124
DTEND;TZID=Etc/GMT+4;VALUE=DATE:20260126
X-ALT-DESC;FMTTYPE=TEXT/HTML:Winter Field Day for the KCARC Club will take 
 place in the EOC. 911 Public Safety Blvd. Dover\, DE. 19901 More details w
 ill be available after the next Club Meeting on Tuesday January 13th.  Ch
 eck back for updates. In 2026\, Winter Field Day (WFD) takes place on th
 e last full weekend of January: Saturday\, January 24\, through Sunday\,&amp;
 hellip\;
CATEGORIES:ARRL Field Day
URL;VALUE=URI:https://kc3arc.org/mc-events/arrl-winter-field-day-weekend/
METHOD:PUBLISH
END:VEVENT
END:VCALENDAR