BEGIN:VCALENDAR
VERSION:2.0
PRODID:spatie/icalendar-generator
DESCRIPTION:Events from Kc3ARC
X-WR-CALDESC:Events from Kc3ARC
REFRESH-INTERVAL;VALUE=DURATION:PT1440M
X-PUBLISHED-TTL:PT1440M
BEGIN:VTIMEZONE
TZID:Etc/GMT+4
BEGIN:STANDARD
DTSTART:20210727T000000Z
TZOFFSETFROM:-0400
TZOFFSETTO:-0400
END:STANDARD
END:VTIMEZONE
BEGIN:VTIMEZONE
TZID:UTC
BEGIN:STANDARD
DTSTART:20250728T184021Z
TZOFFSETFROM:+0000
TZOFFSETTO:+0000
END:STANDARD
END:VTIMEZONE
BEGIN:VEVENT
UID:38-4
DTSTAMP:20260424T184021Z
SUMMARY:SARA Hamfest 2022
LOCATION:
ORGANIZER;CN=KC3ARCadmin0:MAILTO:fiveseventango@gmail.com
DTSTART;TZID=Etc/GMT+4;VALUE=DATE:20220423
DTEND;TZID=Etc/GMT+4;VALUE=DATE:20220424
X-ALT-DESC;FMTTYPE=TEXT/HTML:<p>Delmarva Amateur Radio &amp;amp\; Electronics E
 xpo<br />\nSussex Amateur Radio Association</p>\n<p>   Contact: Jamie Asht
 on \, W3UC\, 7446 Parker St. Pittsville\, MD 21850<br />\n   Phone: 410-20
 2-7690  Email: DelawareHamfest@gmail.com    Talk-In: 147.090 156.7</p>\n
CATEGORIES:HamFest
URL;VALUE=URI:https://kc3arc.org/mc-events/sara-hamfest-2022/
METHOD:PUBLISH
END:VEVENT
END:VCALENDAR