BEGIN:VCALENDAR
VERSION:2.0
PRODID:spatie/icalendar-generator
DESCRIPTION:Events from Kc3ARC
X-WR-CALDESC:Events from Kc3ARC
REFRESH-INTERVAL;VALUE=DURATION:PT1440M
X-PUBLISHED-TTL:PT1440M
BEGIN:VTIMEZONE
TZID:Etc/GMT+4
BEGIN:STANDARD
DTSTART:20210728T000000Z
TZOFFSETFROM:-0400
TZOFFSETTO:-0400
END:STANDARD
END:VTIMEZONE
BEGIN:VTIMEZONE
TZID:UTC
BEGIN:STANDARD
DTSTART:20250728T200455Z
TZOFFSETFROM:+0000
TZOFFSETTO:+0000
END:STANDARD
END:VTIMEZONE
BEGIN:VEVENT
UID:55-7
DTSTAMP:20260424T200455Z
SUMMARY:Coastal Running Festival (CODEL)
LOCATION:
ORGANIZER;CN=KC3ARCadmin0:MAILTO:fiveseventango@gmail.com
DTSTART;TZID=Etc/GMT+4;VALUE=DATE:20220424
DTEND;TZID=Etc/GMT+4;VALUE=DATE:20220425
X-ALT-DESC;FMTTYPE=TEXT/HTML:The Coastal Running Festival (CODEL) in the Re
 hoboth and Lewes area in April. Notice will be coming out in March for vol
 unteers.  Think about volunteering for  public service events.
CATEGORIES:CODEL
URL;VALUE=URI:https://kc3arc.org/mc-events/coastal-running-festival-codel/
METHOD:PUBLISH
END:VEVENT
END:VCALENDAR