BEGIN:VCALENDAR
VERSION:2.0
PRODID:spatie/icalendar-generator
DESCRIPTION:Events from Kc3ARC
X-WR-CALDESC:Events from Kc3ARC
REFRESH-INTERVAL;VALUE=DURATION:PT1440M
X-PUBLISHED-TTL:PT1440M
BEGIN:VTIMEZONE
TZID:Etc/GMT+4
BEGIN:STANDARD
DTSTART:20211116T090000Z
TZOFFSETFROM:-0400
TZOFFSETTO:-0400
END:STANDARD
END:VTIMEZONE
BEGIN:VTIMEZONE
TZID:UTC
BEGIN:STANDARD
DTSTART:20250728T203723Z
TZOFFSETFROM:+0000
TZOFFSETTO:+0000
END:STANDARD
END:VTIMEZONE
BEGIN:VEVENT
UID:80-22
DTSTAMP:20260424T203723Z
SUMMARY:ARRL Basic Emcomm Course\, EC-001
LOCATION:Kent County Emergency Operations Center 911 Public Safety Blvd.  D
 over Delaware 19901
ORGANIZER;CN=KC3ARCadmin0:MAILTO:fiveseventango@gmail.com
DTSTART;TZID=Etc/GMT+4:20220813T090000
DTEND;TZID=Etc/GMT+4:20220813T150000
X-ALT-DESC;FMTTYPE=TEXT/HTML:John K3PFW and Jerry N3KRX will be hosting the
  ARRL Basic Emcomm Course\, EC-001\, on August 13-14 and 20-21. Class to b
 e held at the EOC (see the map above) between 9 AM and 3 PM each day. Desc
 ription. This course is designed to provide basic knowledge and tools for
  any emergency communications volunteer. The course&amp;hellip\;
CATEGORIES:Emcomm
URL;VALUE=URI:https://kc3arc.org/mc-events/arrl-basic-emcomm-course-ec-001/
METHOD:PUBLISH
END:VEVENT
END:VCALENDAR