BEGIN:VCALENDAR
VERSION:2.0
PRODID:spatie/icalendar-generator
DESCRIPTION:Events from Kc3ARC
X-WR-CALDESC:Events from Kc3ARC
REFRESH-INTERVAL;VALUE=DURATION:PT1440M
X-PUBLISHED-TTL:PT1440M
BEGIN:VTIMEZONE
TZID:Etc/GMT+4
BEGIN:STANDARD
DTSTART:20220118T000000Z
TZOFFSETFROM:-0400
TZOFFSETTO:-0400
END:STANDARD
END:VTIMEZONE
BEGIN:VTIMEZONE
TZID:UTC
BEGIN:STANDARD
DTSTART:20250729T011228Z
TZOFFSETFROM:+0000
TZOFFSETTO:+0000
END:STANDARD
END:VTIMEZONE
BEGIN:VEVENT
UID:90-31
DTSTAMP:20260425T011228Z
SUMMARY:Apple-Scrapple Festival\, Bridgeville DE
LOCATION:
ORGANIZER;CN=KC3ARCadmin0:MAILTO:fiveseventango@gmail.com
DTSTART;TZID=Etc/GMT+4;VALUE=DATE:20221015
DTEND;TZID=Etc/GMT+4;VALUE=DATE:20221016
X-ALT-DESC;FMTTYPE=TEXT/HTML:The town of Bridgeville will host the annual A
 pple Scrapple Festival on Saturday\, October 15th. This town-wide event dr
 aws thousands of visitors to enjoy the rides\, exhibitions\, concerts\, an
 d food. Sussex County AUXCOMM will be supporting the Mobile Command Unit b
 y providing amateur radio operators to cover specific key locations throug
 hout the event in addition&amp;hellip\;
CATEGORIES:ARRL Field Day
URL;VALUE=URI:https://kc3arc.org/mc-events/apple-scrapple-festival-bridgevi
 lle-de/
METHOD:PUBLISH
END:VEVENT
END:VCALENDAR